BEGIN:VCALENDAR
VERSION:2.0
PRODID:-//Schachverein V.d.S.F. Bonn - ECPv6.15.20//NONSGML v1.0//EN
CALSCALE:GREGORIAN
METHOD:PUBLISH
X-WR-CALNAME:Schachverein V.d.S.F. Bonn
X-ORIGINAL-URL:https://www.vdsf-bonn.de
X-WR-CALDESC:Veranstaltungen für Schachverein V.d.S.F. Bonn
REFRESH-INTERVAL;VALUE=DURATION:PT1H
X-Robots-Tag:noindex
X-PUBLISHED-TTL:PT1H
BEGIN:VTIMEZONE
TZID:Europe/Berlin
BEGIN:DAYLIGHT
TZOFFSETFROM:+0100
TZOFFSETTO:+0200
TZNAME:CEST
DTSTART:20250330T010000
END:DAYLIGHT
BEGIN:STANDARD
TZOFFSETFROM:+0200
TZOFFSETTO:+0100
TZNAME:CET
DTSTART:20251026T010000
END:STANDARD
BEGIN:DAYLIGHT
TZOFFSETFROM:+0100
TZOFFSETTO:+0200
TZNAME:CEST
DTSTART:20260329T010000
END:DAYLIGHT
BEGIN:STANDARD
TZOFFSETFROM:+0200
TZOFFSETTO:+0100
TZNAME:CET
DTSTART:20261025T010000
END:STANDARD
BEGIN:DAYLIGHT
TZOFFSETFROM:+0100
TZOFFSETTO:+0200
TZNAME:CEST
DTSTART:20270328T010000
END:DAYLIGHT
BEGIN:STANDARD
TZOFFSETFROM:+0200
TZOFFSETTO:+0100
TZNAME:CET
DTSTART:20271031T010000
END:STANDARD
END:VTIMEZONE
BEGIN:VEVENT
DTSTART;TZID=Europe/Berlin:20260419T110000
DTEND;TZID=Europe/Berlin:20260419T170000
DTSTAMP:20260421T102742
CREATED:20250821T175642Z
LAST-MODIFIED:20251109T150446Z
UID:436-1776596400-1776618000@www.vdsf-bonn.de
SUMMARY:Godesberger SK 4 - VdSF-Bonn 3
DESCRIPTION:Auswärts \nErgebnisse
URL:https://www.vdsf-bonn.de/event/gsk-4-vdsf-3
LOCATION:Auswärts
CATEGORIES:Mannschaft 3
END:VEVENT
END:VCALENDAR