BEGIN:VCALENDAR
VERSION:2.0
PRODID:-//Schachverein V.d.S.F. Bonn - ECPv6.15.20//NONSGML v1.0//EN
CALSCALE:GREGORIAN
METHOD:PUBLISH
X-ORIGINAL-URL:https://www.vdsf-bonn.de
X-WR-CALDESC:Veranstaltungen für Schachverein V.d.S.F. Bonn
REFRESH-INTERVAL;VALUE=DURATION:PT1H
X-Robots-Tag:noindex
X-PUBLISHED-TTL:PT1H
BEGIN:VTIMEZONE
TZID:Europe/Berlin
BEGIN:DAYLIGHT
TZOFFSETFROM:+0100
TZOFFSETTO:+0200
TZNAME:CEST
DTSTART:20240331T010000
END:DAYLIGHT
BEGIN:STANDARD
TZOFFSETFROM:+0200
TZOFFSETTO:+0100
TZNAME:CET
DTSTART:20241027T010000
END:STANDARD
BEGIN:DAYLIGHT
TZOFFSETFROM:+0100
TZOFFSETTO:+0200
TZNAME:CEST
DTSTART:20250330T010000
END:DAYLIGHT
BEGIN:STANDARD
TZOFFSETFROM:+0200
TZOFFSETTO:+0100
TZNAME:CET
DTSTART:20251026T010000
END:STANDARD
BEGIN:DAYLIGHT
TZOFFSETFROM:+0100
TZOFFSETTO:+0200
TZNAME:CEST
DTSTART:20260329T010000
END:DAYLIGHT
BEGIN:STANDARD
TZOFFSETFROM:+0200
TZOFFSETTO:+0100
TZNAME:CET
DTSTART:20261025T010000
END:STANDARD
END:VTIMEZONE
BEGIN:VEVENT
DTSTART;TZID=Europe/Berlin:20250905T171500
DTEND;TZID=Europe/Berlin:20250905T190000
DTSTAMP:20260423T141757
CREATED:20250820T103623Z
LAST-MODIFIED:20250820T111554Z
UID:352-1757092500-1757098800@www.vdsf-bonn.de
SUMMARY:Jugendschach
DESCRIPTION:
URL:https://www.vdsf-bonn.de/event/jugendschach-3
LOCATION:Spiellokal DBH\, Königstr. 88\, Bonn\, 53115\, Germany
CATEGORIES:Schachabend
END:VEVENT
BEGIN:VEVENT
DTSTART;TZID=Europe/Berlin:20250905T190000
DTEND;TZID=Europe/Berlin:20250905T220000
DTSTAMP:20260423T141757
CREATED:20250820T103042Z
LAST-MODIFIED:20250820T111559Z
UID:322-1757098800-1757109600@www.vdsf-bonn.de
SUMMARY:Schachabend
DESCRIPTION:
URL:https://www.vdsf-bonn.de/event/schachabend-3
LOCATION:Spiellokal DBH\, Königstr. 88\, Bonn\, 53115\, Germany
CATEGORIES:Schachabend
END:VEVENT
BEGIN:VEVENT
DTSTART;TZID=Europe/Berlin:20250905T193000
DTEND;TZID=Europe/Berlin:20250905T223000
DTSTAMP:20260423T141757
CREATED:20250820T104324Z
LAST-MODIFIED:20250820T110245Z
UID:384-1757100600-1757111400@www.vdsf-bonn.de
SUMMARY:Schnellschach 3/2025
DESCRIPTION:3. Runde unserer Schnellschachserie. Siehe hier: Schnellschach
URL:https://www.vdsf-bonn.de/event/schnellschach-3-2025
LOCATION:Spiellokal DBH\, Königstr. 88\, Bonn\, 53115\, Germany
CATEGORIES:Schnellschach
END:VEVENT
BEGIN:VEVENT
DTSTART;TZID=Europe/Berlin:20250907T110000
DTEND;TZID=Europe/Berlin:20250907T180000
DTSTAMP:20260423T141757
CREATED:20250822T142320Z
LAST-MODIFIED:20251109T145818Z
UID:449-1757242800-1757268000@www.vdsf-bonn.de
SUMMARY:VdSF-Bonn 2 - SC Siegburg I
DESCRIPTION:Heimspiel \nErgebnisse
URL:https://www.vdsf-bonn.de/event/vdsf-2-sc-siegburg-i
LOCATION:Spiellokal DBH\, Königstr. 88\, Bonn\, 53115\, Germany
CATEGORIES:Mannschaft 2
END:VEVENT
BEGIN:VEVENT
DTSTART;TZID=Europe/Berlin:20250912T171500
DTEND;TZID=Europe/Berlin:20250912T190000
DTSTAMP:20260423T141757
CREATED:20250820T103639Z
LAST-MODIFIED:20250820T110952Z
UID:354-1757697300-1757703600@www.vdsf-bonn.de
SUMMARY:Jugendschach
DESCRIPTION:
URL:https://www.vdsf-bonn.de/event/jugendschach-4
LOCATION:Spiellokal DBH\, Königstr. 88\, Bonn\, 53115\, Germany
CATEGORIES:Schachabend
END:VEVENT
BEGIN:VEVENT
DTSTART;TZID=Europe/Berlin:20250912T190000
DTEND;TZID=Europe/Berlin:20250912T220000
DTSTAMP:20260423T141757
CREATED:20250820T103101Z
LAST-MODIFIED:20250820T111605Z
UID:324-1757703600-1757714400@www.vdsf-bonn.de
SUMMARY:Schachabend
DESCRIPTION:
URL:https://www.vdsf-bonn.de/event/schachabend-4
LOCATION:Spiellokal DBH\, Königstr. 88\, Bonn\, 53115\, Germany
CATEGORIES:Schachabend
END:VEVENT
BEGIN:VEVENT
DTSTART;TZID=Europe/Berlin:20250912T193000
DTEND;TZID=Europe/Berlin:20250912T223000
DTSTAMP:20260423T141757
CREATED:20250820T105536Z
LAST-MODIFIED:20250905T121309Z
UID:389-1757705400-1757716200@www.vdsf-bonn.de
SUMMARY:Monatsblitz
DESCRIPTION:Monatsblitz jeden zweiten Freitag im Monat. Mehr hier: Monatsblitz
URL:https://www.vdsf-bonn.de/event/monatsblitz
CATEGORIES:Monatsblitz
END:VEVENT
BEGIN:VEVENT
DTSTART;TZID=Europe/Berlin:20250914T110000
DTEND;TZID=Europe/Berlin:20250914T180000
DTSTAMP:20260423T141757
CREATED:20250823T034035Z
LAST-MODIFIED:20251109T144626Z
UID:439-1757847600-1757872800@www.vdsf-bonn.de
SUMMARY:SV Horst-Emscher 1 - VdSF-Bonn 1
DESCRIPTION:Auswärts
URL:https://www.vdsf-bonn.de/event/sv-horst-emscher-vdsf1
CATEGORIES:Mannschaft 1
END:VEVENT
BEGIN:VEVENT
DTSTART;TZID=Europe/Berlin:20250919T171500
DTEND;TZID=Europe/Berlin:20250919T190000
DTSTAMP:20260423T141757
CREATED:20250820T104102Z
LAST-MODIFIED:20250820T111612Z
UID:380-1758302100-1758308400@www.vdsf-bonn.de
SUMMARY:Jugendschach
DESCRIPTION:
URL:https://www.vdsf-bonn.de/event/jugendschach-17
LOCATION:Spiellokal DBH\, Königstr. 88\, Bonn\, 53115\, Germany
CATEGORIES:Schachabend
END:VEVENT
BEGIN:VEVENT
DTSTART;TZID=Europe/Berlin:20250919T190000
DTEND;TZID=Europe/Berlin:20250919T220000
DTSTAMP:20260423T141757
CREATED:20250820T103116Z
LAST-MODIFIED:20250820T111618Z
UID:326-1758308400-1758319200@www.vdsf-bonn.de
SUMMARY:Schachabend
DESCRIPTION:
URL:https://www.vdsf-bonn.de/event/schachabend-5
LOCATION:Spiellokal DBH\, Königstr. 88\, Bonn\, 53115\, Germany
CATEGORIES:Schachabend
END:VEVENT
BEGIN:VEVENT
DTSTART;TZID=Europe/Berlin:20250921T110000
DTEND;TZID=Europe/Berlin:20250921T170000
DTSTAMP:20260423T141757
CREATED:20250823T121622Z
LAST-MODIFIED:20251109T150705Z
UID:454-1758452400-1758474000@www.vdsf-bonn.de
SUMMARY:VdSF-Bonn 4 - SF Seelscheid1
DESCRIPTION:Heimspiel \nErgebnisse
URL:https://www.vdsf-bonn.de/event/vdsf-4-sf-seelscheid1
LOCATION:Spiellokal DBH\, Königstr. 88\, Bonn\, 53115\, Germany
CATEGORIES:Mannschaft 4
END:VEVENT
BEGIN:VEVENT
DTSTART;TZID=Europe/Berlin:20250926T171500
DTEND;TZID=Europe/Berlin:20250926T190000
DTSTAMP:20260423T141757
CREATED:20250820T103654Z
LAST-MODIFIED:20250820T111624Z
UID:356-1758906900-1758913200@www.vdsf-bonn.de
SUMMARY:Jugendschach
DESCRIPTION:
URL:https://www.vdsf-bonn.de/event/jugendschach-5
LOCATION:Spiellokal DBH\, Königstr. 88\, Bonn\, 53115\, Germany
CATEGORIES:Schachabend
END:VEVENT
BEGIN:VEVENT
DTSTART;TZID=Europe/Berlin:20250926T190000
DTEND;TZID=Europe/Berlin:20250926T220000
DTSTAMP:20260423T141757
CREATED:20250820T103136Z
LAST-MODIFIED:20250820T111631Z
UID:328-1758913200-1758924000@www.vdsf-bonn.de
SUMMARY:Schachabend
DESCRIPTION:
URL:https://www.vdsf-bonn.de/event/schachabend-6
LOCATION:Spiellokal DBH\, Königstr. 88\, Bonn\, 53115\, Germany
CATEGORIES:Schachabend
END:VEVENT
BEGIN:VEVENT
DTSTART;TZID=Europe/Berlin:20250928T110000
DTEND;TZID=Europe/Berlin:20250928T180000
DTSTAMP:20260423T141757
CREATED:20250823T155113Z
LAST-MODIFIED:20251109T145707Z
UID:481-1759057200-1759082400@www.vdsf-bonn.de
SUMMARY:TuS Strempt 1 - VdSF-Bonn 2
DESCRIPTION:Auswärtsspiel \nErgebnisse
URL:https://www.vdsf-bonn.de/event/tus-strempt-1-vdsf-1
LOCATION:Auswärts
CATEGORIES:Mannschaft 2
END:VEVENT
END:VCALENDAR