BEGIN:VCALENDAR
VERSION:2.0
PRODID:-//Schachverein V.d.S.F. Bonn - ECPv6.15.20//NONSGML v1.0//EN
CALSCALE:GREGORIAN
METHOD:PUBLISH
X-ORIGINAL-URL:https://www.vdsf-bonn.de
X-WR-CALDESC:Veranstaltungen für Schachverein V.d.S.F. Bonn
REFRESH-INTERVAL;VALUE=DURATION:PT1H
X-Robots-Tag:noindex
X-PUBLISHED-TTL:PT1H
BEGIN:VTIMEZONE
TZID:Europe/Berlin
BEGIN:DAYLIGHT
TZOFFSETFROM:+0100
TZOFFSETTO:+0200
TZNAME:CEST
DTSTART:20250330T010000
END:DAYLIGHT
BEGIN:STANDARD
TZOFFSETFROM:+0200
TZOFFSETTO:+0100
TZNAME:CET
DTSTART:20251026T010000
END:STANDARD
BEGIN:DAYLIGHT
TZOFFSETFROM:+0100
TZOFFSETTO:+0200
TZNAME:CEST
DTSTART:20260329T010000
END:DAYLIGHT
BEGIN:STANDARD
TZOFFSETFROM:+0200
TZOFFSETTO:+0100
TZNAME:CET
DTSTART:20261025T010000
END:STANDARD
BEGIN:DAYLIGHT
TZOFFSETFROM:+0100
TZOFFSETTO:+0200
TZNAME:CEST
DTSTART:20270328T010000
END:DAYLIGHT
BEGIN:STANDARD
TZOFFSETFROM:+0200
TZOFFSETTO:+0100
TZNAME:CET
DTSTART:20271031T010000
END:STANDARD
END:VTIMEZONE
BEGIN:VEVENT
DTSTART;TZID=Europe/Berlin:20260102T170000
DTEND;TZID=Europe/Berlin:20260102T220000
DTSTAMP:20260421T120623
CREATED:20250823T141152Z
LAST-MODIFIED:20251224T143428Z
UID:469-1767373200-1767391200@www.vdsf-bonn.de
SUMMARY:Kein Schachabend
DESCRIPTION:Jahreswechselpause
URL:https://www.vdsf-bonn.de/event/kein-schachabend-2
CATEGORIES:Kein Schachtag
END:VEVENT
BEGIN:VEVENT
DTSTART;TZID=Europe/Berlin:20260109T171500
DTEND;TZID=Europe/Berlin:20260109T190000
DTSTAMP:20260421T120623
CREATED:20250820T104011Z
LAST-MODIFIED:20250824T124926Z
UID:378-1767978900-1767985200@www.vdsf-bonn.de
SUMMARY:Jugendschach
DESCRIPTION:
URL:https://www.vdsf-bonn.de/event/jugendschach-16
LOCATION:Spiellokal DBH\, Königstr. 88\, Bonn\, 53115\, Germany
CATEGORIES:Schachabend
END:VEVENT
BEGIN:VEVENT
DTSTART;TZID=Europe/Berlin:20260109T190000
DTEND;TZID=Europe/Berlin:20260109T220000
DTSTAMP:20260421T120623
CREATED:20250820T103437Z
LAST-MODIFIED:20250824T125316Z
UID:346-1767985200-1767996000@www.vdsf-bonn.de
SUMMARY:Schachabend
DESCRIPTION:
URL:https://www.vdsf-bonn.de/event/schachabend-15
LOCATION:Spiellokal DBH\, Königstr. 88\, Bonn\, 53115\, Germany
CATEGORIES:Schachabend
END:VEVENT
BEGIN:VEVENT
DTSTART;TZID=Europe/Berlin:20260109T193000
DTEND;TZID=Europe/Berlin:20260109T223000
DTSTAMP:20260421T120623
CREATED:20250824T132448Z
LAST-MODIFIED:20250905T115430Z
UID:508-1767987000-1767997800@www.vdsf-bonn.de
SUMMARY:Monatsblitz
DESCRIPTION:Monatsblitz jeden zweiten Freitag im Monat. Mehr hier: Monatsblitz
URL:https://www.vdsf-bonn.de/event/monatsblitz-5
CATEGORIES:Monatsblitz
END:VEVENT
BEGIN:VEVENT
DTSTART;TZID=Europe/Berlin:20260111T110000
DTEND;TZID=Europe/Berlin:20260111T180000
DTSTAMP:20260421T120623
CREATED:20250823T162454Z
LAST-MODIFIED:20251109T145427Z
UID:489-1768129200-1768154400@www.vdsf-bonn.de
SUMMARY:VdSF-Bonn 2 - SV Turm St. Augustin 1
DESCRIPTION:Heimspiel \nErgebnisse
URL:https://www.vdsf-bonn.de/event/vdsf-2-sv-turm-st-augustin-1
LOCATION:Spiellokal DBH\, Königstr. 88\, Bonn\, 53115\, Germany
CATEGORIES:Mannschaft 2
END:VEVENT
BEGIN:VEVENT
DTSTART;TZID=Europe/Berlin:20260116T171500
DTEND;TZID=Europe/Berlin:20260116T190000
DTSTAMP:20260421T120624
CREATED:20250825T101714Z
LAST-MODIFIED:20250825T101714Z
UID:511-1768583700-1768590000@www.vdsf-bonn.de
SUMMARY:Jugendschach
DESCRIPTION:
URL:https://www.vdsf-bonn.de/event/jugendschach-19
LOCATION:Spiellokal DBH\, Königstr. 88\, Bonn\, 53115\, Germany
CATEGORIES:Schachabend
END:VEVENT
BEGIN:VEVENT
DTSTART;TZID=Europe/Berlin:20260116T190000
DTEND;TZID=Europe/Berlin:20260116T220000
DTSTAMP:20260421T120624
CREATED:20250825T102116Z
LAST-MODIFIED:20250825T102116Z
UID:516-1768590000-1768600800@www.vdsf-bonn.de
SUMMARY:Schachabend
DESCRIPTION:
URL:https://www.vdsf-bonn.de/event/schachabend-19
LOCATION:Spiellokal DBH\, Königstr. 88\, Bonn\, 53115\, Germany
CATEGORIES:Schachabend
END:VEVENT
BEGIN:VEVENT
DTSTART;TZID=Europe/Berlin:20260116T190000
DTEND;TZID=Europe/Berlin:20260116T230000
DTSTAMP:20260421T120624
CREATED:20250831T141441Z
LAST-MODIFIED:20250831T141441Z
UID:542-1768590000-1768604400@www.vdsf-bonn.de
SUMMARY:57. Vereinsmeisterschaft 5. Runde
DESCRIPTION:Auf Absprache Beginn auch um 18 Uhr
URL:https://www.vdsf-bonn.de/event/57-vereinsmeisterschaft-5-runde
LOCATION:Spiellokal DBH\, Königstr. 88\, Bonn\, 53115\, Germany
CATEGORIES:Vereinsmeisterschaft
END:VEVENT
BEGIN:VEVENT
DTSTART;TZID=Europe/Berlin:20260118T110000
DTEND;TZID=Europe/Berlin:20260118T160000
DTSTAMP:20260421T120624
CREATED:20250821T175548Z
LAST-MODIFIED:20251109T150213Z
UID:432-1768734000-1768752000@www.vdsf-bonn.de
SUMMARY:SF Lohmar 2 - VdSF-Bonn 3
DESCRIPTION:Auswärts \nErgebnisse
URL:https://www.vdsf-bonn.de/event/sf-lohmar-2-vdsf-3
LOCATION:Auswärts
CATEGORIES:Mannschaft 3
END:VEVENT
BEGIN:VEVENT
DTSTART;TZID=Europe/Berlin:20260118T110000
DTEND;TZID=Europe/Berlin:20260118T160000
DTSTAMP:20260421T120624
CREATED:20251109T142900Z
LAST-MODIFIED:20251109T151350Z
UID:935-1768734000-1768752000@www.vdsf-bonn.de
SUMMARY:SF Rheinbach 2 - VdSF-Bonn 4
DESCRIPTION:Auswärts \nErgebnisse
URL:https://www.vdsf-bonn.de/event/sf-rheinbach-2-vdsf-bonn-4
LOCATION:Auswärts
CATEGORIES:Mannschaft 4
END:VEVENT
BEGIN:VEVENT
DTSTART;TZID=Europe/Berlin:20260118T110000
DTEND;TZID=Europe/Berlin:20260118T183000
DTSTAMP:20260421T120624
CREATED:20250823T145119Z
LAST-MODIFIED:20251109T141236Z
UID:471-1768734000-1768761000@www.vdsf-bonn.de
SUMMARY:VdSF-Bonn 1 - SV Letmathe 1
DESCRIPTION:Heimspiel \nLive-Ergebnisse
URL:https://www.vdsf-bonn.de/event/vdsf-1-sv-letmathe-1
CATEGORIES:Mannschaft 1
END:VEVENT
BEGIN:VEVENT
DTSTART;TZID=Europe/Berlin:20260123T171500
DTEND;TZID=Europe/Berlin:20260123T190000
DTSTAMP:20260421T120624
CREATED:20250826T132237Z
LAST-MODIFIED:20250826T132237Z
UID:519-1769188500-1769194800@www.vdsf-bonn.de
SUMMARY:Jugendschach
DESCRIPTION:
URL:https://www.vdsf-bonn.de/event/jugendschach-20
LOCATION:Spiellokal DBH\, Königstr. 88\, Bonn\, 53115\, Germany
CATEGORIES:Schachabend
END:VEVENT
BEGIN:VEVENT
DTSTART;TZID=Europe/Berlin:20260123T193000
DTEND;TZID=Europe/Berlin:20260123T220000
DTSTAMP:20260421T120624
CREATED:20250826T132543Z
LAST-MODIFIED:20250826T132543Z
UID:521-1769196600-1769205600@www.vdsf-bonn.de
SUMMARY:Schachabend
DESCRIPTION:
URL:https://www.vdsf-bonn.de/event/schachabend-20
LOCATION:Spiellokal DBH\, Königstr. 88\, Bonn\, 53115\, Germany
CATEGORIES:Schachabend
END:VEVENT
BEGIN:VEVENT
DTSTART;TZID=Europe/Berlin:20260124T140000
DTEND;TZID=Europe/Berlin:20260124T170000
DTSTAMP:20260421T120624
CREATED:20260111T155522Z
LAST-MODIFIED:20260111T155700Z
UID:1282-1769263200-1769274000@www.vdsf-bonn.de
SUMMARY:Bezirks Mannschafts Blitzmeisterschaft
DESCRIPTION:In Lohmar findet um 14 Uhr die Bezirks-Blitz-Mannschaftsmeisterschaft statt. \nhttps://schachbezirk-bonn-rhein-sieg.de/wp-content/uploads/2026/01/sbrs_ausschreibung_blitzmm_2025-2026.pdf \nDie ersten drei Mannschaften qualifizieren sich für die SVM-Blitzmannschaftsmeisterschaft.
URL:https://www.vdsf-bonn.de/event/bezirks-mannschafts-blitzmeisterschaft
END:VEVENT
BEGIN:VEVENT
DTSTART;TZID=Europe/Berlin:20260130T171500
DTEND;TZID=Europe/Berlin:20260130T190000
DTSTAMP:20260421T120624
CREATED:20250827T155231Z
LAST-MODIFIED:20250827T155231Z
UID:523-1769793300-1769799600@www.vdsf-bonn.de
SUMMARY:Jugendschach
DESCRIPTION:
URL:https://www.vdsf-bonn.de/event/jugendschach-21
LOCATION:Spiellokal DBH\, Königstr. 88\, Bonn\, 53115\, Germany
CATEGORIES:Schachabend
END:VEVENT
BEGIN:VEVENT
DTSTART;TZID=Europe/Berlin:20260130T190000
DTEND;TZID=Europe/Berlin:20260130T220000
DTSTAMP:20260421T120624
CREATED:20250827T155507Z
LAST-MODIFIED:20250827T155507Z
UID:526-1769799600-1769810400@www.vdsf-bonn.de
SUMMARY:Schachabend
DESCRIPTION:
URL:https://www.vdsf-bonn.de/event/schachabend-21
LOCATION:Spiellokal DBH\, Königstr. 88\, Bonn\, 53115\, Germany
CATEGORIES:Schachabend
END:VEVENT
BEGIN:VEVENT
DTSTART;TZID=Europe/Berlin:20260130T190000
DTEND;TZID=Europe/Berlin:20260130T230000
DTSTAMP:20260421T120624
CREATED:20250831T141849Z
LAST-MODIFIED:20250831T141849Z
UID:544-1769799600-1769814000@www.vdsf-bonn.de
SUMMARY:57. Vereinsmeisterschaft 6. Runde
DESCRIPTION:Auf Absprache Beginn auch um 18 Uhr
URL:https://www.vdsf-bonn.de/event/57-vereinsmeisterschaft-6-runde
LOCATION:Spiellokal DBH\, Königstr. 88\, Bonn\, 53115\, Germany
CATEGORIES:Vereinsmeisterschaft
END:VEVENT
END:VCALENDAR