BEGIN:VCALENDAR
VERSION:2.0
PRODID:-//Schachverein V.d.S.F. Bonn - ECPv6.15.20//NONSGML v1.0//EN
CALSCALE:GREGORIAN
METHOD:PUBLISH
X-WR-CALNAME:Schachverein V.d.S.F. Bonn
X-ORIGINAL-URL:https://www.vdsf-bonn.de
X-WR-CALDESC:Veranstaltungen für Schachverein V.d.S.F. Bonn
REFRESH-INTERVAL;VALUE=DURATION:PT1H
X-Robots-Tag:noindex
X-PUBLISHED-TTL:PT1H
BEGIN:VTIMEZONE
TZID:Europe/Berlin
BEGIN:DAYLIGHT
TZOFFSETFROM:+0100
TZOFFSETTO:+0200
TZNAME:CEST
DTSTART:20250330T010000
END:DAYLIGHT
BEGIN:STANDARD
TZOFFSETFROM:+0200
TZOFFSETTO:+0100
TZNAME:CET
DTSTART:20251026T010000
END:STANDARD
BEGIN:DAYLIGHT
TZOFFSETFROM:+0100
TZOFFSETTO:+0200
TZNAME:CEST
DTSTART:20260329T010000
END:DAYLIGHT
BEGIN:STANDARD
TZOFFSETFROM:+0200
TZOFFSETTO:+0100
TZNAME:CET
DTSTART:20261025T010000
END:STANDARD
BEGIN:DAYLIGHT
TZOFFSETFROM:+0100
TZOFFSETTO:+0200
TZNAME:CEST
DTSTART:20270328T010000
END:DAYLIGHT
BEGIN:STANDARD
TZOFFSETFROM:+0200
TZOFFSETTO:+0100
TZNAME:CET
DTSTART:20271031T010000
END:STANDARD
END:VTIMEZONE
BEGIN:VEVENT
DTSTART;TZID=Europe/Berlin:20260201T110000
DTEND;TZID=Europe/Berlin:20260201T160000
DTSTAMP:20260421T112424
CREATED:20250821T175133Z
LAST-MODIFIED:20251109T150253Z
UID:428-1769943600-1769961600@www.vdsf-bonn.de
SUMMARY:VdSF-Bonn 3 - SC Empor Maulwurf
DESCRIPTION:Heimspiel \nErgebnisse
URL:https://www.vdsf-bonn.de/event/vdsf-3-sc-empor-maulwurf
LOCATION:Spiellokal DBH\, Königstr. 88\, Bonn\, 53115\, Germany
CATEGORIES:Mannschaft 3
END:VEVENT
BEGIN:VEVENT
DTSTART;TZID=Europe/Berlin:20260206T171500
DTEND;TZID=Europe/Berlin:20260206T190000
DTSTAMP:20260421T112424
CREATED:20250831T150107Z
LAST-MODIFIED:20250831T150107Z
UID:552-1770398100-1770404400@www.vdsf-bonn.de
SUMMARY:Jugendschach
DESCRIPTION:
URL:https://www.vdsf-bonn.de/event/jugendschach-22
LOCATION:Spiellokal DBH\, Königstr. 88\, Bonn\, 53115\, Germany
CATEGORIES:Schachabend
END:VEVENT
BEGIN:VEVENT
DTSTART;TZID=Europe/Berlin:20260206T190000
DTEND;TZID=Europe/Berlin:20260206T220000
DTSTAMP:20260421T112424
CREATED:20250831T150327Z
LAST-MODIFIED:20250831T150327Z
UID:554-1770404400-1770415200@www.vdsf-bonn.de
SUMMARY:Schachabend
DESCRIPTION:
URL:https://www.vdsf-bonn.de/event/schachabend-22
LOCATION:Spiellokal DBH\, Königstr. 88\, Bonn\, 53115\, Germany
CATEGORIES:Schachabend
END:VEVENT
BEGIN:VEVENT
DTSTART;TZID=Europe/Berlin:20260206T191500
DTEND;TZID=Europe/Berlin:20260206T220000
DTSTAMP:20260421T112424
CREATED:20260119T214031Z
LAST-MODIFIED:20260214T130808Z
UID:1305-1770405300-1770415200@www.vdsf-bonn.de
SUMMARY:U1600 Schnellschach
DESCRIPTION:5 Runden schnellschach für Spieler ohne DWZ oder DWZ unter 1600. \nAlle Details finden sich hier. \n 
URL:https://www.vdsf-bonn.de/event/u1600-schnellschach
CATEGORIES:U1600 Schnellschach
END:VEVENT
BEGIN:VEVENT
DTSTART;TZID=Europe/Berlin:20260208T110000
DTEND;TZID=Europe/Berlin:20260208T173000
DTSTAMP:20260421T112424
CREATED:20250823T151040Z
LAST-MODIFIED:20251109T141307Z
UID:473-1770548400-1770571800@www.vdsf-bonn.de
SUMMARY:SV Lieme 1 - VdSF-Bonn 1
DESCRIPTION:Auswärtsspiel \nLive-Ergebnisse
URL:https://www.vdsf-bonn.de/event/sv-lieme-1-vdsf-1
CATEGORIES:Mannschaft 1
END:VEVENT
BEGIN:VEVENT
DTSTART;TZID=Europe/Berlin:20260208T110000
DTEND;TZID=Europe/Berlin:20260208T180000
DTSTAMP:20260421T112424
CREATED:20250823T162930Z
LAST-MODIFIED:20251109T145340Z
UID:492-1770548400-1770573600@www.vdsf-bonn.de
SUMMARY:VdSF-Bonn 2 - TTC GW Fritzdorf 1
DESCRIPTION:Heimspiel \nErgebnisse \n 
URL:https://www.vdsf-bonn.de/event/vdsf-1-ttc-gw-fritzdorf-1
LOCATION:Spiellokal DBH\, Königstr. 88\, Bonn\, 53115\, Germany
CATEGORIES:Mannschaft 2
END:VEVENT
BEGIN:VEVENT
DTSTART;TZID=Europe/Berlin:20260213T171500
DTEND;TZID=Europe/Berlin:20260213T190000
DTSTAMP:20260421T112424
CREATED:20250831T150807Z
LAST-MODIFIED:20250831T150807Z
UID:556-1771002900-1771009200@www.vdsf-bonn.de
SUMMARY:Jugendschach
DESCRIPTION:Allgemeine Übungen mit Übungspartien
URL:https://www.vdsf-bonn.de/event/jugendschach-23
LOCATION:Spiellokal DBH\, Königstr. 88\, Bonn\, 53115\, Germany
CATEGORIES:Schachabend
END:VEVENT
BEGIN:VEVENT
DTSTART;TZID=Europe/Berlin:20260213T190000
DTEND;TZID=Europe/Berlin:20260213T220000
DTSTAMP:20260421T112424
CREATED:20250831T151706Z
LAST-MODIFIED:20250831T151706Z
UID:560-1771009200-1771020000@www.vdsf-bonn.de
SUMMARY:Schachabend
DESCRIPTION:
URL:https://www.vdsf-bonn.de/event/schachabend-23
LOCATION:Spiellokal DBH\, Königstr. 88\, Bonn\, 53115\, Germany
CATEGORIES:Schachabend
END:VEVENT
BEGIN:VEVENT
DTSTART;TZID=Europe/Berlin:20260213T193000
DTEND;TZID=Europe/Berlin:20260213T220000
DTSTAMP:20260421T112424
CREATED:20250831T151105Z
LAST-MODIFIED:20250905T121754Z
UID:558-1771011000-1771020000@www.vdsf-bonn.de
SUMMARY:Monatsblitz
DESCRIPTION:Monatsblitz jeden zweiten Freitag im Monat. Mehr hier: Monatsblitz
URL:https://www.vdsf-bonn.de/event/monatsblitz-6
LOCATION:Spiellokal DBH\, Königstr. 88\, Bonn\, 53115\, Germany
CATEGORIES:Monatsblitz
END:VEVENT
BEGIN:VEVENT
DTSTART;TZID=Europe/Berlin:20260220T171500
DTEND;TZID=Europe/Berlin:20260220T190000
DTSTAMP:20260421T112424
CREATED:20250831T152926Z
LAST-MODIFIED:20250831T152926Z
UID:564-1771607700-1771614000@www.vdsf-bonn.de
SUMMARY:Jugendschach
DESCRIPTION:Allgemeine Übungen mit Übungspartien
URL:https://www.vdsf-bonn.de/event/jugendschach-24
LOCATION:Spiellokal DBH\, Königstr. 88\, Bonn\, 53115\, Germany
CATEGORIES:Schachabend
END:VEVENT
BEGIN:VEVENT
DTSTART;TZID=Europe/Berlin:20260220T190000
DTEND;TZID=Europe/Berlin:20260220T220000
DTSTAMP:20260421T112424
CREATED:20250831T152300Z
LAST-MODIFIED:20250831T152300Z
UID:562-1771614000-1771624800@www.vdsf-bonn.de
SUMMARY:Schachabend
DESCRIPTION:
URL:https://www.vdsf-bonn.de/event/schachabend-24
LOCATION:Spiellokal DBH\, Königstr. 88\, Bonn\, 53115\, Germany
CATEGORIES:Schachabend
END:VEVENT
BEGIN:VEVENT
DTSTART;TZID=Europe/Berlin:20260220T190000
DTEND;TZID=Europe/Berlin:20260220T230000
DTSTAMP:20260421T112424
CREATED:20250831T142203Z
LAST-MODIFIED:20250831T142203Z
UID:546-1771614000-1771628400@www.vdsf-bonn.de
SUMMARY:57. Vereinsmeisterschaft 7. Runde
DESCRIPTION:Auf Absprache Beginn auch um 18 Uhr
URL:https://www.vdsf-bonn.de/event/57-vereinsmeisterschaft-7-runde
LOCATION:Spiellokal DBH\, Königstr. 88\, Bonn\, 53115\, Germany
CATEGORIES:Vereinsmeisterschaft
END:VEVENT
BEGIN:VEVENT
DTSTART;TZID=Europe/Berlin:20260222T110000
DTEND;TZID=Europe/Berlin:20260222T160000
DTSTAMP:20260421T112424
CREATED:20250821T175619Z
LAST-MODIFIED:20251109T150326Z
UID:434-1771758000-1771776000@www.vdsf-bonn.de
SUMMARY:SK Troisdorf 2 - VdSF-Bonn 3
DESCRIPTION:Auswärts \nErgebnisse
URL:https://www.vdsf-bonn.de/event/sk-troisdorf-2-vdsf-3
LOCATION:Auswärts
CATEGORIES:Mannschaft 3
END:VEVENT
BEGIN:VEVENT
DTSTART;TZID=Europe/Berlin:20260222T110000
DTEND;TZID=Europe/Berlin:20260222T160000
DTSTAMP:20260421T112424
CREATED:20251109T142750Z
LAST-MODIFIED:20251109T151432Z
UID:933-1771758000-1771776000@www.vdsf-bonn.de
SUMMARY:VdSF-Bonn 4 - Turm St. Augustin 2
DESCRIPTION:Heimspiel \nErgebnisse
URL:https://www.vdsf-bonn.de/event/vdsf-bonn-4-turm-st-augustin-2
LOCATION:Spiellokal DBH\, Königstr. 88\, Bonn\, 53115\, Germany
CATEGORIES:Mannschaft 4
END:VEVENT
BEGIN:VEVENT
DTSTART;TZID=Europe/Berlin:20260227T171500
DTEND;TZID=Europe/Berlin:20260227T190000
DTSTAMP:20260421T112424
CREATED:20250831T161019Z
LAST-MODIFIED:20250831T161019Z
UID:569-1772212500-1772218800@www.vdsf-bonn.de
SUMMARY:Jugendschach
DESCRIPTION:Allgemeine Übungen mit Übungspartien
URL:https://www.vdsf-bonn.de/event/jugendschach-25
LOCATION:Spiellokal DBH\, Königstr. 88\, Bonn\, 53115\, Germany
CATEGORIES:Schachabend
END:VEVENT
BEGIN:VEVENT
DTSTART;TZID=Europe/Berlin:20260227T190000
DTEND;TZID=Europe/Berlin:20260227T220000
DTSTAMP:20260421T112424
CREATED:20250831T161218Z
LAST-MODIFIED:20250831T161218Z
UID:571-1772218800-1772229600@www.vdsf-bonn.de
SUMMARY:Schachabend
DESCRIPTION:
URL:https://www.vdsf-bonn.de/event/schachabend-25
LOCATION:Spiellokal DBH\, Königstr. 88\, Bonn\, 53115\, Germany
CATEGORIES:Schachabend
END:VEVENT
BEGIN:VEVENT
DTSTART;TZID=Europe/Berlin:20260227T193000
DTEND;TZID=Europe/Berlin:20260227T223000
DTSTAMP:20260421T112424
CREATED:20250909T150542Z
LAST-MODIFIED:20251109T090801Z
UID:757-1772220600-1772231400@www.vdsf-bonn.de
SUMMARY:Schnellschach 1. Runde 2026
DESCRIPTION:Offenes Schnellschachturnier 2026.
URL:https://www.vdsf-bonn.de/event/offenes-schnellschach-1-runde-2026
LOCATION:Spiellokal DBH\, Königstr. 88\, Bonn\, 53115\, Germany
CATEGORIES:Schnellschach
END:VEVENT
END:VCALENDAR