BEGIN:VCALENDAR
VERSION:2.0
PRODID:-//Schachverein V.d.S.F. Bonn - ECPv6.15.20//NONSGML v1.0//EN
CALSCALE:GREGORIAN
METHOD:PUBLISH
X-ORIGINAL-URL:https://www.vdsf-bonn.de
X-WR-CALDESC:Veranstaltungen für Schachverein V.d.S.F. Bonn
REFRESH-INTERVAL;VALUE=DURATION:PT1H
X-Robots-Tag:noindex
X-PUBLISHED-TTL:PT1H
BEGIN:VTIMEZONE
TZID:Europe/Berlin
BEGIN:DAYLIGHT
TZOFFSETFROM:+0100
TZOFFSETTO:+0200
TZNAME:CEST
DTSTART:20250330T010000
END:DAYLIGHT
BEGIN:STANDARD
TZOFFSETFROM:+0200
TZOFFSETTO:+0100
TZNAME:CET
DTSTART:20251026T010000
END:STANDARD
BEGIN:DAYLIGHT
TZOFFSETFROM:+0100
TZOFFSETTO:+0200
TZNAME:CEST
DTSTART:20260329T010000
END:DAYLIGHT
BEGIN:STANDARD
TZOFFSETFROM:+0200
TZOFFSETTO:+0100
TZNAME:CET
DTSTART:20261025T010000
END:STANDARD
BEGIN:DAYLIGHT
TZOFFSETFROM:+0100
TZOFFSETTO:+0200
TZNAME:CEST
DTSTART:20270328T010000
END:DAYLIGHT
BEGIN:STANDARD
TZOFFSETFROM:+0200
TZOFFSETTO:+0100
TZNAME:CET
DTSTART:20271031T010000
END:STANDARD
END:VTIMEZONE
BEGIN:VEVENT
DTSTART;TZID=Europe/Berlin:20260605T171500
DTEND;TZID=Europe/Berlin:20260605T190000
DTSTAMP:20260421T102952
CREATED:20251207T153236Z
LAST-MODIFIED:20251207T153236Z
UID:1097-1780679700-1780686000@www.vdsf-bonn.de
SUMMARY:Jugendschach
DESCRIPTION:
URL:https://www.vdsf-bonn.de/event/jugendschach-37
LOCATION:Spiellokal DBH\, Königstr. 88\, Bonn\, 53115\, Germany
CATEGORIES:Schachabend
END:VEVENT
BEGIN:VEVENT
DTSTART;TZID=Europe/Berlin:20260605T190000
DTEND;TZID=Europe/Berlin:20260605T220000
DTSTAMP:20260421T102952
CREATED:20251207T153525Z
LAST-MODIFIED:20251207T153525Z
UID:1099-1780686000-1780696800@www.vdsf-bonn.de
SUMMARY:Schachabend
DESCRIPTION:
URL:https://www.vdsf-bonn.de/event/schachabend-37
LOCATION:Spiellokal DBH\, Königstr. 88\, Bonn\, 53115\, Germany
CATEGORIES:Schachabend
END:VEVENT
BEGIN:VEVENT
DTSTART;TZID=Europe/Berlin:20260605T190000
DTEND;TZID=Europe/Berlin:20260605T223000
DTSTAMP:20260421T102952
CREATED:20251207T153843Z
LAST-MODIFIED:20251207T153843Z
UID:1101-1780686000-1780698600@www.vdsf-bonn.de
SUMMARY:Vereinspokalturnier 2026 / 2. Runde
DESCRIPTION:
URL:https://www.vdsf-bonn.de/event/vereinspokalturnier-2026-2-runde
LOCATION:Spiellokal DBH\, Königstr. 88\, Bonn\, 53115\, Germany
CATEGORIES:Vereinsmeisterschaft
END:VEVENT
BEGIN:VEVENT
DTSTART;TZID=Europe/Berlin:20260612T171500
DTEND;TZID=Europe/Berlin:20260612T190000
DTSTAMP:20260421T102952
CREATED:20251208T114858Z
LAST-MODIFIED:20251208T114858Z
UID:1103-1781284500-1781290800@www.vdsf-bonn.de
SUMMARY:Jugendschach
DESCRIPTION:
URL:https://www.vdsf-bonn.de/event/jugendschach-38
LOCATION:Spiellokal DBH\, Königstr. 88\, Bonn\, 53115\, Germany
CATEGORIES:Schachabend
END:VEVENT
BEGIN:VEVENT
DTSTART;TZID=Europe/Berlin:20260612T190000
DTEND;TZID=Europe/Berlin:20260612T220000
DTSTAMP:20260421T102952
CREATED:20251208T115101Z
LAST-MODIFIED:20251208T115101Z
UID:1105-1781290800-1781301600@www.vdsf-bonn.de
SUMMARY:Schachabend
DESCRIPTION:
URL:https://www.vdsf-bonn.de/event/schachabend-38
LOCATION:Spiellokal DBH\, Königstr. 88\, Bonn\, 53115\, Germany
CATEGORIES:Schachabend
END:VEVENT
BEGIN:VEVENT
DTSTART;TZID=Europe/Berlin:20260612T193000
DTEND;TZID=Europe/Berlin:20260612T223000
DTSTAMP:20260421T102952
CREATED:20251208T115352Z
LAST-MODIFIED:20251208T122308Z
UID:1107-1781292600-1781303400@www.vdsf-bonn.de
SUMMARY:Monatsblitz
DESCRIPTION:
URL:https://www.vdsf-bonn.de/event/monatsblitz-10
LOCATION:Spiellokal DBH\, Königstr. 88\, Bonn\, 53115\, Germany
CATEGORIES:Monatsblitz
END:VEVENT
BEGIN:VEVENT
DTSTART;TZID=Europe/Berlin:20260619T171500
DTEND;TZID=Europe/Berlin:20260619T190000
DTSTAMP:20260421T102952
CREATED:20251208T122814Z
LAST-MODIFIED:20251208T122814Z
UID:1109-1781889300-1781895600@www.vdsf-bonn.de
SUMMARY:Jugendschach
DESCRIPTION:
URL:https://www.vdsf-bonn.de/event/jugendschach-39
LOCATION:Spiellokal DBH\, Königstr. 88\, Bonn\, 53115\, Germany
CATEGORIES:Schachabend
END:VEVENT
BEGIN:VEVENT
DTSTART;TZID=Europe/Berlin:20260619T190000
DTEND;TZID=Europe/Berlin:20260619T220000
DTSTAMP:20260421T102952
CREATED:20251208T123340Z
LAST-MODIFIED:20251208T123340Z
UID:1112-1781895600-1781906400@www.vdsf-bonn.de
SUMMARY:Schachabend
DESCRIPTION:
URL:https://www.vdsf-bonn.de/event/schachabend-39
LOCATION:Spiellokal DBH\, Königstr. 88\, Bonn\, 53115\, Germany
END:VEVENT
BEGIN:VEVENT
DTSTART;TZID=Europe/Berlin:20260626T171500
DTEND;TZID=Europe/Berlin:20260626T190000
DTSTAMP:20260421T102952
CREATED:20251208T123620Z
LAST-MODIFIED:20251208T123620Z
UID:1114-1782494100-1782500400@www.vdsf-bonn.de
SUMMARY:Jugendschach
DESCRIPTION:
URL:https://www.vdsf-bonn.de/event/jugendschach-40
LOCATION:Spiellokal DBH\, Königstr. 88\, Bonn\, 53115\, Germany
CATEGORIES:Schachabend
END:VEVENT
BEGIN:VEVENT
DTSTART;TZID=Europe/Berlin:20260626T190000
DTEND;TZID=Europe/Berlin:20260626T220000
DTSTAMP:20260421T102952
CREATED:20251208T123748Z
LAST-MODIFIED:20251208T123748Z
UID:1116-1782500400-1782511200@www.vdsf-bonn.de
SUMMARY:Schachabend
DESCRIPTION:
URL:https://www.vdsf-bonn.de/event/schachabend-40
LOCATION:Spiellokal DBH\, Königstr. 88\, Bonn\, 53115\, Germany
CATEGORIES:Schachabend
END:VEVENT
BEGIN:VEVENT
DTSTART;TZID=Europe/Berlin:20260626T193000
DTEND;TZID=Europe/Berlin:20260626T223000
DTSTAMP:20260421T102952
CREATED:20251208T124057Z
LAST-MODIFIED:20251208T125008Z
UID:1118-1782502200-1782513000@www.vdsf-bonn.de
SUMMARY:Vereinspokalturnier 2026 / 3. Runde
DESCRIPTION:
URL:https://www.vdsf-bonn.de/event/vereinspokalturnier-2026-2-runde-2
LOCATION:Spiellokal DBH\, Königstr. 88\, Bonn\, 53115\, Germany
CATEGORIES:Vereinsmeisterschaft
END:VEVENT
END:VCALENDAR