BEGIN:VCALENDAR
VERSION:2.0
PRODID:-//Schachverein V.d.S.F. Bonn - ECPv6.15.20//NONSGML v1.0//EN
CALSCALE:GREGORIAN
METHOD:PUBLISH
X-WR-CALNAME:Schachverein V.d.S.F. Bonn
X-ORIGINAL-URL:https://www.vdsf-bonn.de
X-WR-CALDESC:Veranstaltungen für Schachverein V.d.S.F. Bonn
REFRESH-INTERVAL;VALUE=DURATION:PT1H
X-Robots-Tag:noindex
X-PUBLISHED-TTL:PT1H
BEGIN:VTIMEZONE
TZID:Europe/Berlin
BEGIN:DAYLIGHT
TZOFFSETFROM:+0100
TZOFFSETTO:+0200
TZNAME:CEST
DTSTART:20250330T010000
END:DAYLIGHT
BEGIN:STANDARD
TZOFFSETFROM:+0200
TZOFFSETTO:+0100
TZNAME:CET
DTSTART:20251026T010000
END:STANDARD
BEGIN:DAYLIGHT
TZOFFSETFROM:+0100
TZOFFSETTO:+0200
TZNAME:CEST
DTSTART:20260329T010000
END:DAYLIGHT
BEGIN:STANDARD
TZOFFSETFROM:+0200
TZOFFSETTO:+0100
TZNAME:CET
DTSTART:20261025T010000
END:STANDARD
BEGIN:DAYLIGHT
TZOFFSETFROM:+0100
TZOFFSETTO:+0200
TZNAME:CEST
DTSTART:20270328T010000
END:DAYLIGHT
BEGIN:STANDARD
TZOFFSETFROM:+0200
TZOFFSETTO:+0100
TZNAME:CET
DTSTART:20271031T010000
END:STANDARD
END:VTIMEZONE
BEGIN:VEVENT
DTSTART;TZID=Europe/Berlin:20260703T171500
DTEND;TZID=Europe/Berlin:20260703T190000
DTSTAMP:20260421T120654
CREATED:20251210T070127Z
LAST-MODIFIED:20251210T070127Z
UID:1121-1783098900-1783105200@www.vdsf-bonn.de
SUMMARY:Jugendschach
DESCRIPTION:
URL:https://www.vdsf-bonn.de/event/jugendschach-41
LOCATION:Spiellokal DBH\, Königstr. 88\, Bonn\, 53115\, Germany
CATEGORIES:Schachabend
END:VEVENT
BEGIN:VEVENT
DTSTART;TZID=Europe/Berlin:20260703T190000
DTEND;TZID=Europe/Berlin:20260703T220000
DTSTAMP:20260421T120654
CREATED:20251210T070326Z
LAST-MODIFIED:20251210T070326Z
UID:1123-1783105200-1783116000@www.vdsf-bonn.de
SUMMARY:Schachabend
DESCRIPTION:
URL:https://www.vdsf-bonn.de/event/schachabend-41
LOCATION:Spiellokal DBH\, Königstr. 88\, Bonn\, 53115\, Germany
CATEGORIES:Schachabend
END:VEVENT
BEGIN:VEVENT
DTSTART;TZID=Europe/Berlin:20260703T191500
DTEND;TZID=Europe/Berlin:20260703T220000
DTSTAMP:20260421T120654
CREATED:20260214T131034Z
LAST-MODIFIED:20260214T131932Z
UID:1379-1783106100-1783116000@www.vdsf-bonn.de
SUMMARY:U1600 Schnellschach
DESCRIPTION:5 Runden Schnellschach für Spieler ohne DWZ oder DWZ unter 1600. \nAlle Details finden sich hier. \n 
URL:https://www.vdsf-bonn.de/event/u1600-schnellschach-3
LOCATION:Spiellokal DBH\, Königstr. 88\, Bonn\, 53115\, Germany
CATEGORIES:U1600 Schnellschach
END:VEVENT
BEGIN:VEVENT
DTSTART;TZID=Europe/Berlin:20260710T171500
DTEND;TZID=Europe/Berlin:20260710T190000
DTSTAMP:20260421T120654
CREATED:20251210T070838Z
LAST-MODIFIED:20251210T070838Z
UID:1125-1783703700-1783710000@www.vdsf-bonn.de
SUMMARY:Jugendschach
DESCRIPTION:
URL:https://www.vdsf-bonn.de/event/jugendschach-42
LOCATION:Spiellokal DBH\, Königstr. 88\, Bonn\, 53115\, Germany
CATEGORIES:Schachabend
END:VEVENT
BEGIN:VEVENT
DTSTART;TZID=Europe/Berlin:20260710T190000
DTEND;TZID=Europe/Berlin:20260710T220000
DTSTAMP:20260421T120654
CREATED:20251210T071008Z
LAST-MODIFIED:20251210T071008Z
UID:1127-1783710000-1783720800@www.vdsf-bonn.de
SUMMARY:Schachabend
DESCRIPTION:
URL:https://www.vdsf-bonn.de/event/schachabend-42
LOCATION:Spiellokal DBH\, Königstr. 88\, Bonn\, 53115\, Germany
CATEGORIES:Schachabend
END:VEVENT
BEGIN:VEVENT
DTSTART;TZID=Europe/Berlin:20260710T193000
DTEND;TZID=Europe/Berlin:20260710T223000
DTSTAMP:20260421T120654
CREATED:20251210T071207Z
LAST-MODIFIED:20251210T071207Z
UID:1129-1783711800-1783722600@www.vdsf-bonn.de
SUMMARY:Monatsblitz
DESCRIPTION:
URL:https://www.vdsf-bonn.de/event/monatsblitz-11
LOCATION:Spiellokal DBH\, Königstr. 88\, Bonn\, 53115\, Germany
CATEGORIES:Monatsblitz
END:VEVENT
BEGIN:VEVENT
DTSTART;TZID=Europe/Berlin:20260717T190000
DTEND;TZID=Europe/Berlin:20260717T220000
DTSTAMP:20260421T120654
CREATED:20251211T162411Z
LAST-MODIFIED:20251211T162411Z
UID:1133-1784314800-1784325600@www.vdsf-bonn.de
SUMMARY:Schachabend
DESCRIPTION:
URL:https://www.vdsf-bonn.de/event/schachabend-43
LOCATION:Spiellokal DBH\, Königstr. 88\, Bonn\, 53115\, Germany
CATEGORIES:Schachabend
END:VEVENT
BEGIN:VEVENT
DTSTART;TZID=Europe/Berlin:20260717T193000
DTEND;TZID=Europe/Berlin:20260717T223000
DTSTAMP:20260421T120654
CREATED:20251211T162807Z
LAST-MODIFIED:20251211T162807Z
UID:1136-1784316600-1784327400@www.vdsf-bonn.de
SUMMARY:Vereinspokalturnier 2026 / Runde 4
DESCRIPTION:
URL:https://www.vdsf-bonn.de/event/vereinspokalturnier-2026-runde-4
LOCATION:Spiellokal DBH\, Königstr. 88\, Bonn\, 53115\, Germany
CATEGORIES:Vereinsmeisterschaft
END:VEVENT
BEGIN:VEVENT
DTSTART;TZID=Europe/Berlin:20260724T171500
DTEND;TZID=Europe/Berlin:20260724T190000
DTSTAMP:20260421T120654
CREATED:20251211T163504Z
LAST-MODIFIED:20251212T192212Z
UID:1138-1784913300-1784919600@www.vdsf-bonn.de
SUMMARY:Jugendschach
DESCRIPTION:großer und kleiner Gruppenraum
URL:https://www.vdsf-bonn.de/event/jugendschach-44
LOCATION:Spiellokal DBH\, Königstr. 88\, Bonn\, 53115\, Germany
CATEGORIES:Schachabend
END:VEVENT
BEGIN:VEVENT
DTSTART;TZID=Europe/Berlin:20260724T171500
DTEND;TZID=Europe/Berlin:20260724T190000
DTSTAMP:20260421T120654
CREATED:20251211T164030Z
LAST-MODIFIED:20251211T164030Z
UID:1141-1784913300-1784919600@www.vdsf-bonn.de
SUMMARY:Jugendschach
DESCRIPTION:EG\,  großer und kleiner Gruppenraum
URL:https://www.vdsf-bonn.de/event/jugendschach-45
LOCATION:Spiellokal DBH\, Königstr. 88\, Bonn\, 53115\, Germany
CATEGORIES:Schachabend
END:VEVENT
BEGIN:VEVENT
DTSTART;TZID=Europe/Berlin:20260724T190000
DTEND;TZID=Europe/Berlin:20260724T220000
DTSTAMP:20260421T120654
CREATED:20251211T164330Z
LAST-MODIFIED:20251211T164330Z
UID:1143-1784919600-1784930400@www.vdsf-bonn.de
SUMMARY:Schachabend
DESCRIPTION:EG\, großer und kleiner Gruppenraum
URL:https://www.vdsf-bonn.de/event/schachabend-44
LOCATION:Spiellokal DBH\, Königstr. 88\, Bonn\, 53115\, Germany
CATEGORIES:Schachabend
END:VEVENT
BEGIN:VEVENT
DTSTART;TZID=Europe/Berlin:20260731T171500
DTEND;TZID=Europe/Berlin:20260731T190000
DTSTAMP:20260421T120654
CREATED:20251212T133547Z
LAST-MODIFIED:20251212T133547Z
UID:1146-1785518100-1785524400@www.vdsf-bonn.de
SUMMARY:Jugendschach
DESCRIPTION:EG\, großer und kleiner Gruppenraum
URL:https://www.vdsf-bonn.de/event/jugendschach-46
LOCATION:Spiellokal DBH\, Königstr. 88\, Bonn\, 53115\, Germany
CATEGORIES:Schachabend
END:VEVENT
BEGIN:VEVENT
DTSTART;TZID=Europe/Berlin:20260731T190000
DTEND;TZID=Europe/Berlin:20260731T220000
DTSTAMP:20260421T120654
CREATED:20251212T133836Z
LAST-MODIFIED:20251212T133836Z
UID:1148-1785524400-1785535200@www.vdsf-bonn.de
SUMMARY:Schachabend
DESCRIPTION:EG\, großer und kleiner Gruppenraum
URL:https://www.vdsf-bonn.de/event/schachabend-45
LOCATION:Spiellokal DBH\, Königstr. 88\, Bonn\, 53115\, Germany
CATEGORIES:Schachabend
END:VEVENT
END:VCALENDAR