BEGIN:VCALENDAR
VERSION:2.0
PRODID:-//Schachverein V.d.S.F. Bonn - ECPv6.15.20//NONSGML v1.0//EN
CALSCALE:GREGORIAN
METHOD:PUBLISH
X-ORIGINAL-URL:https://www.vdsf-bonn.de
X-WR-CALDESC:Veranstaltungen für Schachverein V.d.S.F. Bonn
REFRESH-INTERVAL;VALUE=DURATION:PT1H
X-Robots-Tag:noindex
X-PUBLISHED-TTL:PT1H
BEGIN:VTIMEZONE
TZID:Europe/Berlin
BEGIN:DAYLIGHT
TZOFFSETFROM:+0100
TZOFFSETTO:+0200
TZNAME:CEST
DTSTART:20250330T010000
END:DAYLIGHT
BEGIN:STANDARD
TZOFFSETFROM:+0200
TZOFFSETTO:+0100
TZNAME:CET
DTSTART:20251026T010000
END:STANDARD
BEGIN:DAYLIGHT
TZOFFSETFROM:+0100
TZOFFSETTO:+0200
TZNAME:CEST
DTSTART:20260329T010000
END:DAYLIGHT
BEGIN:STANDARD
TZOFFSETFROM:+0200
TZOFFSETTO:+0100
TZNAME:CET
DTSTART:20261025T010000
END:STANDARD
BEGIN:DAYLIGHT
TZOFFSETFROM:+0100
TZOFFSETTO:+0200
TZNAME:CEST
DTSTART:20270328T010000
END:DAYLIGHT
BEGIN:STANDARD
TZOFFSETFROM:+0200
TZOFFSETTO:+0100
TZNAME:CET
DTSTART:20271031T010000
END:STANDARD
END:VTIMEZONE
BEGIN:VEVENT
DTSTART;TZID=Europe/Berlin:20260807T170000
DTEND;TZID=Europe/Berlin:20260807T220000
DTSTAMP:20260421T140011
CREATED:20251212T141220Z
LAST-MODIFIED:20251227T135953Z
UID:1152-1786122000-1786140000@www.vdsf-bonn.de
SUMMARY:Kein Schachtag
DESCRIPTION:Sommerpause
URL:https://www.vdsf-bonn.de/event/kein-schachtag-4
CATEGORIES:Kein Schachtag
END:VEVENT
BEGIN:VEVENT
DTSTART;TZID=Europe/Berlin:20260814T170000
DTEND;TZID=Europe/Berlin:20260814T220000
DTSTAMP:20260421T140011
CREATED:20251212T140824Z
LAST-MODIFIED:20251227T140017Z
UID:1150-1786726800-1786744800@www.vdsf-bonn.de
SUMMARY:Kein Schachtag
DESCRIPTION:Sommerpause
URL:https://www.vdsf-bonn.de/event/kein-schachtag-3
CATEGORIES:Kein Schachtag
END:VEVENT
BEGIN:VEVENT
DTSTART;TZID=Europe/Berlin:20260821T170000
DTEND;TZID=Europe/Berlin:20260821T220000
DTSTAMP:20260421T140011
CREATED:20251212T141625Z
LAST-MODIFIED:20251227T135847Z
UID:1154-1787331600-1787349600@www.vdsf-bonn.de
SUMMARY:Kein Schachtag
DESCRIPTION:Sommerpause
URL:https://www.vdsf-bonn.de/event/kein-schachtag-5
CATEGORIES:Kein Schachtag
END:VEVENT
BEGIN:VEVENT
DTSTART;TZID=Europe/Berlin:20260828T171500
DTEND;TZID=Europe/Berlin:20260828T190000
DTSTAMP:20260421T140011
CREATED:20251213T023928Z
LAST-MODIFIED:20251213T023928Z
UID:1157-1787937300-1787943600@www.vdsf-bonn.de
SUMMARY:Jugendschach
DESCRIPTION:
URL:https://www.vdsf-bonn.de/event/jugendschach-47
LOCATION:Spiellokal DBH\, Königstr. 88\, Bonn\, 53115\, Germany
CATEGORIES:Schachabend
END:VEVENT
BEGIN:VEVENT
DTSTART;TZID=Europe/Berlin:20260828T190000
DTEND;TZID=Europe/Berlin:20260828T220000
DTSTAMP:20260421T140011
CREATED:20251213T024141Z
LAST-MODIFIED:20251213T024141Z
UID:1159-1787943600-1787954400@www.vdsf-bonn.de
SUMMARY:Schachabend
DESCRIPTION:
URL:https://www.vdsf-bonn.de/event/schachabend-46
LOCATION:Spiellokal DBH\, Königstr. 88\, Bonn\, 53115\, Germany
CATEGORIES:Schachabend
END:VEVENT
BEGIN:VEVENT
DTSTART;TZID=Europe/Berlin:20260828T193000
DTEND;TZID=Europe/Berlin:20260828T223000
DTSTAMP:20260421T140011
CREATED:20251213T024404Z
LAST-MODIFIED:20251213T024404Z
UID:1161-1787945400-1787956200@www.vdsf-bonn.de
SUMMARY:Monatsblitz (nachgeholt)
DESCRIPTION:
URL:https://www.vdsf-bonn.de/event/monatsblitz-nachgeholt
LOCATION:Spiellokal DBH\, Königstr. 88\, Bonn\, 53115\, Germany
CATEGORIES:Monatsblitz
END:VEVENT
END:VCALENDAR