BEGIN:VCALENDAR
VERSION:2.0
PRODID:-//Schachverein V.d.S.F. Bonn - ECPv6.15.20//NONSGML v1.0//EN
CALSCALE:GREGORIAN
METHOD:PUBLISH
X-ORIGINAL-URL:https://www.vdsf-bonn.de
X-WR-CALDESC:Veranstaltungen für Schachverein V.d.S.F. Bonn
REFRESH-INTERVAL;VALUE=DURATION:PT1H
X-Robots-Tag:noindex
X-PUBLISHED-TTL:PT1H
BEGIN:VTIMEZONE
TZID:Europe/Berlin
BEGIN:DAYLIGHT
TZOFFSETFROM:+0100
TZOFFSETTO:+0200
TZNAME:CEST
DTSTART:20250330T010000
END:DAYLIGHT
BEGIN:STANDARD
TZOFFSETFROM:+0200
TZOFFSETTO:+0100
TZNAME:CET
DTSTART:20251026T010000
END:STANDARD
BEGIN:DAYLIGHT
TZOFFSETFROM:+0100
TZOFFSETTO:+0200
TZNAME:CEST
DTSTART:20260329T010000
END:DAYLIGHT
BEGIN:STANDARD
TZOFFSETFROM:+0200
TZOFFSETTO:+0100
TZNAME:CET
DTSTART:20261025T010000
END:STANDARD
BEGIN:DAYLIGHT
TZOFFSETFROM:+0100
TZOFFSETTO:+0200
TZNAME:CEST
DTSTART:20270328T010000
END:DAYLIGHT
BEGIN:STANDARD
TZOFFSETFROM:+0200
TZOFFSETTO:+0100
TZNAME:CET
DTSTART:20271031T010000
END:STANDARD
END:VTIMEZONE
BEGIN:VEVENT
DTSTART;TZID=Europe/Berlin:20261002T171500
DTEND;TZID=Europe/Berlin:20261002T190000
DTSTAMP:20260421T171600
CREATED:20251213T031652Z
LAST-MODIFIED:20251213T031652Z
UID:1182-1790961300-1790967600@www.vdsf-bonn.de
SUMMARY:Jugendschach
DESCRIPTION:
URL:https://www.vdsf-bonn.de/event/jugendschach-52
LOCATION:Spiellokal DBH\, Königstr. 88\, Bonn\, 53115\, Germany
CATEGORIES:Schachabend
END:VEVENT
BEGIN:VEVENT
DTSTART;TZID=Europe/Berlin:20261002T190000
DTEND;TZID=Europe/Berlin:20261002T220000
DTSTAMP:20260421T171600
CREATED:20251213T031827Z
LAST-MODIFIED:20251213T031827Z
UID:1184-1790967600-1790978400@www.vdsf-bonn.de
SUMMARY:Schachabend
DESCRIPTION:
URL:https://www.vdsf-bonn.de/event/schachabend-51
LOCATION:Spiellokal DBH\, Königstr. 88\, Bonn\, 53115\, Germany
CATEGORIES:Schachabend
END:VEVENT
BEGIN:VEVENT
DTSTART;TZID=Europe/Berlin:20261009T171500
DTEND;TZID=Europe/Berlin:20261009T190000
DTSTAMP:20260421T171600
CREATED:20251213T141925Z
LAST-MODIFIED:20251213T141925Z
UID:1186-1791566100-1791572400@www.vdsf-bonn.de
SUMMARY:Jugendschach
DESCRIPTION:
URL:https://www.vdsf-bonn.de/event/jugendschach-53
LOCATION:Spiellokal DBH\, Königstr. 88\, Bonn\, 53115\, Germany
CATEGORIES:Schachabend
END:VEVENT
BEGIN:VEVENT
DTSTART;TZID=Europe/Berlin:20261009T190000
DTEND;TZID=Europe/Berlin:20261009T220000
DTSTAMP:20260421T171600
CREATED:20251213T142125Z
LAST-MODIFIED:20251213T142125Z
UID:1188-1791572400-1791583200@www.vdsf-bonn.de
SUMMARY:Schachabend
DESCRIPTION:
URL:https://www.vdsf-bonn.de/event/schachabend-52
LOCATION:Spiellokal DBH\, Königstr. 88\, Bonn\, 53115\, Germany
CATEGORIES:Schachabend
END:VEVENT
BEGIN:VEVENT
DTSTART;TZID=Europe/Berlin:20261009T193000
DTEND;TZID=Europe/Berlin:20261009T223000
DTSTAMP:20260421T171600
CREATED:20251213T142423Z
LAST-MODIFIED:20251213T142423Z
UID:1190-1791574200-1791585000@www.vdsf-bonn.de
SUMMARY:Monatsblitz
DESCRIPTION:
URL:https://www.vdsf-bonn.de/event/monatsblitz-13
LOCATION:Spiellokal DBH\, Königstr. 88\, Bonn\, 53115\, Germany
CATEGORIES:Monatsblitz
END:VEVENT
BEGIN:VEVENT
DTSTART;TZID=Europe/Berlin:20261016T171500
DTEND;TZID=Europe/Berlin:20261016T190000
DTSTAMP:20260421T171600
CREATED:20251213T143112Z
LAST-MODIFIED:20251213T143112Z
UID:1192-1792170900-1792177200@www.vdsf-bonn.de
SUMMARY:Jugendschach
DESCRIPTION:
URL:https://www.vdsf-bonn.de/event/jugendschach-54
LOCATION:Spiellokal DBH\, Königstr. 88\, Bonn\, 53115\, Germany
CATEGORIES:Schachabend
END:VEVENT
BEGIN:VEVENT
DTSTART;TZID=Europe/Berlin:20261016T190000
DTEND;TZID=Europe/Berlin:20261016T220000
DTSTAMP:20260421T171600
CREATED:20251213T143314Z
LAST-MODIFIED:20251213T143314Z
UID:1194-1792177200-1792188000@www.vdsf-bonn.de
SUMMARY:Schachabend
DESCRIPTION:
URL:https://www.vdsf-bonn.de/event/schachabend-53
LOCATION:Spiellokal DBH\, Königstr. 88\, Bonn\, 53115\, Germany
CATEGORIES:Schachabend
END:VEVENT
BEGIN:VEVENT
DTSTART;TZID=Europe/Berlin:20261016T193000
DTEND;TZID=Europe/Berlin:20261016T223000
DTSTAMP:20260421T171600
CREATED:20251213T150643Z
LAST-MODIFIED:20251213T150643Z
UID:1210-1792179000-1792189800@www.vdsf-bonn.de
SUMMARY:Start der 58. VdSF-Vereinsmeisterschaft (1. Runde)
DESCRIPTION:
URL:https://www.vdsf-bonn.de/event/start-der-58-vdsf-vereinsmeisterschaft-1-runde
LOCATION:Spiellokal DBH\, Königstr. 88\, Bonn\, 53115\, Germany
CATEGORIES:Vereinsmeisterschaft
END:VEVENT
BEGIN:VEVENT
DTSTART;TZID=Europe/Berlin:20261023T171500
DTEND;TZID=Europe/Berlin:20261023T190000
DTSTAMP:20260421T171600
CREATED:20251213T143618Z
LAST-MODIFIED:20251213T143618Z
UID:1196-1792775700-1792782000@www.vdsf-bonn.de
SUMMARY:Jugendschach
DESCRIPTION:
URL:https://www.vdsf-bonn.de/event/jugendschach-55
LOCATION:Spiellokal DBH\, Königstr. 88\, Bonn\, 53115\, Germany
CATEGORIES:Schachabend
END:VEVENT
BEGIN:VEVENT
DTSTART;TZID=Europe/Berlin:20261023T190000
DTEND;TZID=Europe/Berlin:20261023T220000
DTSTAMP:20260421T171600
CREATED:20251213T144400Z
LAST-MODIFIED:20251213T144400Z
UID:1199-1792782000-1792792800@www.vdsf-bonn.de
SUMMARY:Schachabend
DESCRIPTION:
URL:https://www.vdsf-bonn.de/event/schachabend-54
LOCATION:Spiellokal DBH\, Königstr. 88\, Bonn\, 53115\, Germany
CATEGORIES:Schachabend
END:VEVENT
BEGIN:VEVENT
DTSTART;TZID=Europe/Berlin:20261030T171500
DTEND;TZID=Europe/Berlin:20261030T190000
DTSTAMP:20260421T171600
CREATED:20251213T144715Z
LAST-MODIFIED:20251213T144715Z
UID:1201-1793380500-1793386800@www.vdsf-bonn.de
SUMMARY:Jugendschach
DESCRIPTION:
URL:https://www.vdsf-bonn.de/event/jugendschach-56
LOCATION:Spiellokal DBH\, Königstr. 88\, Bonn\, 53115\, Germany
CATEGORIES:Schachabend
END:VEVENT
BEGIN:VEVENT
DTSTART;TZID=Europe/Berlin:20261030T190000
DTEND;TZID=Europe/Berlin:20261030T220000
DTSTAMP:20260421T171600
CREATED:20251213T144837Z
LAST-MODIFIED:20251213T144837Z
UID:1203-1793386800-1793397600@www.vdsf-bonn.de
SUMMARY:Schachabend
DESCRIPTION:
URL:https://www.vdsf-bonn.de/event/schachabend-55
LOCATION:Spiellokal DBH\, Königstr. 88\, Bonn\, 53115\, Germany
CATEGORIES:Schachabend
END:VEVENT
END:VCALENDAR