BEGIN:VCALENDAR
VERSION:2.0
PRODID:-//Schachverein V.d.S.F. Bonn - ECPv6.15.20//NONSGML v1.0//EN
CALSCALE:GREGORIAN
METHOD:PUBLISH
X-ORIGINAL-URL:https://www.vdsf-bonn.de
X-WR-CALDESC:Veranstaltungen für Schachverein V.d.S.F. Bonn
REFRESH-INTERVAL;VALUE=DURATION:PT1H
X-Robots-Tag:noindex
X-PUBLISHED-TTL:PT1H
BEGIN:VTIMEZONE
TZID:Europe/Berlin
BEGIN:DAYLIGHT
TZOFFSETFROM:+0100
TZOFFSETTO:+0200
TZNAME:CEST
DTSTART:20250330T010000
END:DAYLIGHT
BEGIN:STANDARD
TZOFFSETFROM:+0200
TZOFFSETTO:+0100
TZNAME:CET
DTSTART:20251026T010000
END:STANDARD
BEGIN:DAYLIGHT
TZOFFSETFROM:+0100
TZOFFSETTO:+0200
TZNAME:CEST
DTSTART:20260329T010000
END:DAYLIGHT
BEGIN:STANDARD
TZOFFSETFROM:+0200
TZOFFSETTO:+0100
TZNAME:CET
DTSTART:20261025T010000
END:STANDARD
BEGIN:DAYLIGHT
TZOFFSETFROM:+0100
TZOFFSETTO:+0200
TZNAME:CEST
DTSTART:20270328T010000
END:DAYLIGHT
BEGIN:STANDARD
TZOFFSETFROM:+0200
TZOFFSETTO:+0100
TZNAME:CET
DTSTART:20271031T010000
END:STANDARD
END:VTIMEZONE
BEGIN:VEVENT
DTSTART;TZID=Europe/Berlin:20261106T171500
DTEND;TZID=Europe/Berlin:20261106T190000
DTSTAMP:20260421T183936
CREATED:20251213T145255Z
LAST-MODIFIED:20251213T145255Z
UID:1205-1793985300-1793991600@www.vdsf-bonn.de
SUMMARY:Jugendschach
DESCRIPTION:
URL:https://www.vdsf-bonn.de/event/jugendschach-57
LOCATION:Spiellokal DBH\, Königstr. 88\, Bonn\, 53115\, Germany
CATEGORIES:Schachabend
END:VEVENT
BEGIN:VEVENT
DTSTART;TZID=Europe/Berlin:20261106T190000
DTEND;TZID=Europe/Berlin:20261106T220000
DTSTAMP:20260421T183936
CREATED:20251213T145434Z
LAST-MODIFIED:20251213T145434Z
UID:1207-1793991600-1794002400@www.vdsf-bonn.de
SUMMARY:Schachabend
DESCRIPTION:
URL:https://www.vdsf-bonn.de/event/schachabend-56
LOCATION:Spiellokal DBH\, Königstr. 88\, Bonn\, 53115\, Germany
CATEGORIES:Schachabend
END:VEVENT
BEGIN:VEVENT
DTSTART;TZID=Europe/Berlin:20261106T193000
DTEND;TZID=Europe/Berlin:20261106T223000
DTSTAMP:20260421T183936
CREATED:20251213T151156Z
LAST-MODIFIED:20251213T151348Z
UID:1212-1793993400-1794004200@www.vdsf-bonn.de
SUMMARY:58. VdSF-Vereinsmeisterschaft / 2. Runde
DESCRIPTION:
URL:https://www.vdsf-bonn.de/event/58-vdsf-vereinsmeisterschaft-2-runde
LOCATION:Spiellokal DBH\, Königstr. 88\, Bonn\, 53115\, Germany
CATEGORIES:Vereinsmeisterschaft
END:VEVENT
BEGIN:VEVENT
DTSTART;TZID=Europe/Berlin:20261113T171500
DTEND;TZID=Europe/Berlin:20261113T190000
DTSTAMP:20260421T183936
CREATED:20251213T151627Z
LAST-MODIFIED:20251213T151627Z
UID:1214-1794590100-1794596400@www.vdsf-bonn.de
SUMMARY:Jugendschach
DESCRIPTION:
URL:https://www.vdsf-bonn.de/event/jugendschach-58
CATEGORIES:Schachabend
END:VEVENT
BEGIN:VEVENT
DTSTART;TZID=Europe/Berlin:20261113T190000
DTEND;TZID=Europe/Berlin:20261113T220000
DTSTAMP:20260421T183936
CREATED:20251213T151826Z
LAST-MODIFIED:20251213T151826Z
UID:1216-1794596400-1794607200@www.vdsf-bonn.de
SUMMARY:Schachabend
DESCRIPTION:
URL:https://www.vdsf-bonn.de/event/schachabend-57
LOCATION:Spiellokal DBH\, Königstr. 88\, Bonn\, 53115\, Germany
CATEGORIES:Schachabend
END:VEVENT
BEGIN:VEVENT
DTSTART;TZID=Europe/Berlin:20261113T193000
DTEND;TZID=Europe/Berlin:20261113T223000
DTSTAMP:20260421T183936
CREATED:20251213T152015Z
LAST-MODIFIED:20251213T152015Z
UID:1218-1794598200-1794609000@www.vdsf-bonn.de
SUMMARY:Monatsblitz
DESCRIPTION:
URL:https://www.vdsf-bonn.de/event/monatsblitz-14
LOCATION:Spiellokal DBH\, Königstr. 88\, Bonn\, 53115\, Germany
CATEGORIES:Monatsblitz
END:VEVENT
BEGIN:VEVENT
DTSTART;TZID=Europe/Berlin:20261120T171500
DTEND;TZID=Europe/Berlin:20261120T190000
DTSTAMP:20260421T183936
CREATED:20251213T152350Z
LAST-MODIFIED:20251213T152350Z
UID:1220-1795194900-1795201200@www.vdsf-bonn.de
SUMMARY:Jugendschach
DESCRIPTION:
URL:https://www.vdsf-bonn.de/event/jugendschach-59
LOCATION:Spiellokal DBH\, Königstr. 88\, Bonn\, 53115\, Germany
CATEGORIES:Schachabend
END:VEVENT
BEGIN:VEVENT
DTSTART;TZID=Europe/Berlin:20261120T190000
DTEND;TZID=Europe/Berlin:20261120T220000
DTSTAMP:20260421T183936
CREATED:20251213T152520Z
LAST-MODIFIED:20251213T152520Z
UID:1222-1795201200-1795212000@www.vdsf-bonn.de
SUMMARY:Schachabend
DESCRIPTION:
URL:https://www.vdsf-bonn.de/event/schachabend-58
LOCATION:Spiellokal DBH\, Königstr. 88\, Bonn\, 53115\, Germany
CATEGORIES:Schachabend
END:VEVENT
BEGIN:VEVENT
DTSTART;TZID=Europe/Berlin:20261120T193000
DTEND;TZID=Europe/Berlin:20261120T223000
DTSTAMP:20260421T183936
CREATED:20251109T091030Z
LAST-MODIFIED:20251109T091030Z
UID:913-1795203000-1795213800@www.vdsf-bonn.de
SUMMARY:Schnellschach 4. Runde 2026
DESCRIPTION:Offenes Schnellschachturnier 2026.
URL:https://www.vdsf-bonn.de/event/schnellschach-4-runde-2026
LOCATION:Spiellokal DBH\, Königstr. 88\, Bonn\, 53115\, Germany
CATEGORIES:Schnellschach
END:VEVENT
BEGIN:VEVENT
DTSTART;TZID=Europe/Berlin:20261127T171500
DTEND;TZID=Europe/Berlin:20261127T190000
DTSTAMP:20260421T183936
CREATED:20251213T153909Z
LAST-MODIFIED:20251213T153909Z
UID:1229-1795799700-1795806000@www.vdsf-bonn.de
SUMMARY:Jugendschach
DESCRIPTION:
URL:https://www.vdsf-bonn.de/event/jugendschach-61
LOCATION:Spiellokal DBH\, Königstr. 88\, Bonn\, 53115\, Germany
CATEGORIES:Schachabend
END:VEVENT
BEGIN:VEVENT
DTSTART;TZID=Europe/Berlin:20261127T190000
DTEND;TZID=Europe/Berlin:20261127T220000
DTSTAMP:20260421T183936
CREATED:20251213T154131Z
LAST-MODIFIED:20251213T154131Z
UID:1231-1795806000-1795816800@www.vdsf-bonn.de
SUMMARY:Schachabend
DESCRIPTION:
URL:https://www.vdsf-bonn.de/event/schachabend-60
LOCATION:Spiellokal DBH\, Königstr. 88\, Bonn\, 53115\, Germany
END:VEVENT
END:VCALENDAR